BEGIN:VCALENDAR
VERSION:2.0
PRODID:-//wp-events-plugin.com//7.2.3.1//EN
BEGIN:VEVENT
UID:0-395@countrygardensrvpark.ca
DTSTART;TZID=America/Toronto:20260704T180000
DTEND;TZID=America/Toronto:20260704T200000
DTSTAMP:20251125T162302Z
URL:https://countrygardensrvpark.ca/events/poker-run-3/
SUMMARY:Poker run
DESCRIPTION:More details to follow.
END:VEVENT
BEGIN:VTIMEZONE
TZID:America/Toronto
X-LIC-LOCATION:America/Toronto
BEGIN:DAYLIGHT
DTSTART:20260308T030000
TZOFFSETFROM:-0500
TZOFFSETTO:-0400
TZNAME:EDT
END:DAYLIGHT
END:VTIMEZONE
END:VCALENDAR