BEGIN:VCALENDAR
VERSION:2.0
PRODID:-//wp-events-plugin.com//7.2.3.1//EN
BEGIN:VEVENT
UID:0-384@countrygardensrvpark.ca
DTSTART;TZID=America/Toronto:20260508T000000
DTEND;TZID=America/Toronto:20260508T000000
DTSTAMP:20251124T182514Z
URL:https://countrygardensrvpark.ca/events/opening-day-for-seasonal-camper
 s/
SUMMARY:Opening Day for Seasonal Campers
DESCRIPTION:Welcome back to our seasonal campers!
END:VEVENT
BEGIN:VTIMEZONE
TZID:America/Toronto
X-LIC-LOCATION:America/Toronto
BEGIN:DAYLIGHT
DTSTART:20260308T030000
TZOFFSETFROM:-0500
TZOFFSETTO:-0400
TZNAME:EDT
END:DAYLIGHT
END:VTIMEZONE
END:VCALENDAR