BEGIN:VCALENDAR
VERSION:2.0
PRODID:-//wp-events-plugin.com//7.2.3.1//EN
BEGIN:VEVENT
UID:0-317@countrygardensrvpark.ca
DTSTART;TZID=America/Toronto:20250719T190000
DTEND;TZID=America/Toronto:20250719T210000
DTSTAMP:20250714T133800Z
URL:https://countrygardensrvpark.ca/events/karaoke-night/
SUMMARY:Karaoke Night
DESCRIPTION:Sing your heart out and own the stage.
LOCATION:Pavilion\, 1335 WITMER RD\, PETERSBURG\, ON\, N0B 2H0\, Canada
X-APPLE-STRUCTURED-LOCATION;VALUE=URI;X-ADDRESS=1335 WITMER RD\, PETERSBURG
 \, ON\, N0B 2H0\, Canada;X-APPLE-RADIUS=100;X-TITLE=Pavilion:geo:0,0
END:VEVENT
BEGIN:VTIMEZONE
TZID:America/Toronto
X-LIC-LOCATION:America/Toronto
BEGIN:DAYLIGHT
DTSTART:20250309T030000
TZOFFSETFROM:-0500
TZOFFSETTO:-0400
TZNAME:EDT
END:DAYLIGHT
END:VTIMEZONE
END:VCALENDAR