BEGIN:VCALENDAR
VERSION:2.0
PRODID:-//wp-events-plugin.com//7.2.3.1//EN
BEGIN:VEVENT
UID:0-817@countrygardensrvpark.ca
DTSTART;TZID=America/Toronto:20260510T130000
DTEND;TZID=America/Toronto:20260927T150000
DTSTAMP:20260220T153500Z
URL:https://countrygardensrvpark.ca/events/horseshoes-4/
SUMMARY:Horseshoes
DESCRIPTION:Meet at Playfield
END:VEVENT
BEGIN:VTIMEZONE
TZID:America/Toronto
X-LIC-LOCATION:America/Toronto
BEGIN:DAYLIGHT
DTSTART:20260308T030000
TZOFFSETFROM:-0500
TZOFFSETTO:-0400
TZNAME:EDT
END:DAYLIGHT
END:VTIMEZONE
END:VCALENDAR