BEGIN:VCALENDAR
VERSION:2.0
PRODID:-//wp-events-plugin.com//7.2.3.1//EN
BEGIN:VEVENT
UID:0-406@countrygardensrvpark.ca
DTSTART;TZID=America/Toronto:20260509T130000
DTEND;TZID=America/Toronto:20260926T130000
DTSTAMP:20260213T193714Z
URL:https://countrygardensrvpark.ca/events/horseshoes-3/
SUMMARY:Horseshoes
DESCRIPTION:Meet at the horseshoe pits!
END:VEVENT
BEGIN:VTIMEZONE
TZID:America/Toronto
X-LIC-LOCATION:America/Toronto
BEGIN:DAYLIGHT
DTSTART:20260308T030000
TZOFFSETFROM:-0500
TZOFFSETTO:-0400
TZNAME:EDT
END:DAYLIGHT
END:VTIMEZONE
END:VCALENDAR