BEGIN:VCALENDAR
VERSION:2.0
PRODID:-//wp-events-plugin.com//7.2.3.1//EN
BEGIN:VEVENT
UID:0-653@countrygardensrvpark.ca
DTSTART;TZID=America/Toronto:20260516T130000
DTEND;TZID=America/Toronto:20261017T130000
DTSTAMP:20260213T204118Z
URL:https://countrygardensrvpark.ca/events/holey-board-2/
SUMMARY:Holey Board
DESCRIPTION:Join us under the Pavilion for a fun game of Holey Board starti
 ng at 1pm
LOCATION:Pavilion\, 1335 WITMER RD\, PETERSBURG\, ON\, N0B 2H0\, Canada
X-APPLE-STRUCTURED-LOCATION;VALUE=URI;X-ADDRESS=1335 WITMER RD\, PETERSBURG
 \, ON\, N0B 2H0\, Canada;X-APPLE-RADIUS=100;X-TITLE=Pavilion:geo:0,0
END:VEVENT
BEGIN:VTIMEZONE
TZID:America/Toronto
X-LIC-LOCATION:America/Toronto
BEGIN:DAYLIGHT
DTSTART:20260308T030000
TZOFFSETFROM:-0500
TZOFFSETTO:-0400
TZNAME:EDT
END:DAYLIGHT
END:VTIMEZONE
END:VCALENDAR