BEGIN:VCALENDAR
VERSION:2.0
PRODID:-//wp-events-plugin.com//7.2.3.1//EN
BEGIN:VEVENT
UID:0-387@countrygardensrvpark.ca
DTSTART;TZID=America/Toronto:20260626T000000
DTEND;TZID=America/Toronto:20260629T000000
DTSTAMP:20251124T182826Z
URL:https://countrygardensrvpark.ca/events/canada-day-long-weekend-2/
SUMMARY:Canada Day long weekend
DESCRIPTION:Book your 3 night stay for our Canada Day long weekend.
END:VEVENT
BEGIN:VTIMEZONE
TZID:America/Toronto
X-LIC-LOCATION:America/Toronto
BEGIN:DAYLIGHT
DTSTART:20260308T030000
TZOFFSETFROM:-0500
TZOFFSETTO:-0400
TZNAME:EDT
END:DAYLIGHT
END:VTIMEZONE
END:VCALENDAR