BEGIN:VCALENDAR
VERSION:2.0
PRODID:-//wp-events-plugin.com//7.2.3.1//EN
BEGIN:VEVENT
UID:0-596@countrygardensrvpark.ca
DTSTART;TZID=America/Toronto:20260515T183000
DTEND;TZID=America/Toronto:20260911T213000
DTSTAMP:20260213T201758Z
URL:https://countrygardensrvpark.ca/events/bingo-4/
SUMMARY:Bingo
DESCRIPTION:Join us for our Bingo Every Friday night.\nSales start at 6:30 
 pm\nBingo starts at 7 pm
LOCATION:Rec Hall\, 1335 WITMER RD\, PETERSBURG\, ON\, N0B 2H0\, Canada
X-APPLE-STRUCTURED-LOCATION;VALUE=URI;X-ADDRESS=1335 WITMER RD\, PETERSBURG
 \, ON\, N0B 2H0\, Canada;X-APPLE-RADIUS=100;X-TITLE=Rec Hall:geo:0,0
END:VEVENT
BEGIN:VTIMEZONE
TZID:America/Toronto
X-LIC-LOCATION:America/Toronto
BEGIN:DAYLIGHT
DTSTART:20260308T030000
TZOFFSETFROM:-0500
TZOFFSETTO:-0400
TZNAME:EDT
END:DAYLIGHT
END:VTIMEZONE
END:VCALENDAR